BEGIN:VCALENDAR
VERSION:2.0
PRODID:-//Tukios.com/
BEGIN:VEVENT
UID:9669ca57-1f57-4302-a6c1-3d2766fd3a8e@www.williamsandlucas.com
DTSTAMP:20260425T013322Z
DTSTART:20260430T153000Z
DTEND:20260430T163000Z
SUMMARY:Visitation
DESCRIPTION:
URL:https://www.williamsandlucas.com/obituaries/byron-brockman
LOCATION:Williams & Lucas Funeral Home 517 North Sylvania Avenue  Fort 
	Worth TX 76111
GEO:32.7717426;-97.3092162
END:VEVENT
END:VCALENDAR