BEGIN:VCALENDAR
VERSION:2.0
PRODID:-//Tukios.com/
BEGIN:VEVENT
UID:9ab8cae5-794e-413f-a4e3-b7922628f0d1@www.williamsandlucas.com
DTSTAMP:20260425T013413Z
DTSTART:20260501T160000Z
DTEND:20260501T170000Z
SUMMARY:Funeral Service
DESCRIPTION:
URL:https://www.williamsandlucas.com/obituaries/byron-brockman
LOCATION:Williams & Lucas Funeral Home 517 North Sylvania Avenue  Fort 
	Worth TX 76111
GEO:32.7717426;-97.3092162
END:VEVENT
END:VCALENDAR